BEGIN:VCALENDAR
VERSION:2.0
PRODID:-//NPCC - ECPv6.3.0//NONSGML v1.0//EN
CALSCALE:GREGORIAN
METHOD:PUBLISH
X-WR-CALNAME:NPCC
X-ORIGINAL-URL:http://northernportugal.org
X-WR-CALDESC:Events for NPCC
REFRESH-INTERVAL;VALUE=DURATION:PT1H
X-Robots-Tag:noindex
X-PUBLISHED-TTL:PT1H
BEGIN:VTIMEZONE
TZID:America/Toronto
BEGIN:DAYLIGHT
TZOFFSETFROM:-0500
TZOFFSETTO:-0400
TZNAME:EDT
DTSTART:20150308T070000
END:DAYLIGHT
BEGIN:STANDARD
TZOFFSETFROM:-0400
TZOFFSETTO:-0500
TZNAME:EST
DTSTART:20151101T060000
END:STANDARD
END:VTIMEZONE
BEGIN:VEVENT
DTSTART;TZID=America/Toronto:20150307T160000
DTEND;TZID=America/Toronto:20150307T160000
DTSTAMP:20260419T144005
CREATED:20150101T055535Z
LAST-MODIFIED:20240325T125656Z
UID:2300-1425744000-1425744000@northernportugal.org
SUMMARY:Poker Tournament
DESCRIPTION:Join us for a great evening of food and poker for one low price. \nA Crazy Sh!t Poker event.
URL:http://northernportugal.org/event/poker-tournament
LOCATION:NPCC\, 40 Albany\, Oshawa\, Ontario\, Canada
CATEGORIES:Fundraiser
END:VEVENT
BEGIN:VEVENT
DTSTART;TZID=America/Toronto:20150220T183000
DTEND;TZID=America/Toronto:20150220T183000
DTSTAMP:20260419T144005
CREATED:20150125T143142Z
LAST-MODIFIED:20240325T125810Z
UID:2328-1424457000-1424457000@northernportugal.org
SUMMARY:Espetaculo Augusto Canário
DESCRIPTION:Direto de Portugal\, ACAPO apresenta Augusto Canário e Vanessa Teixeira. Bilhetes á venda a partir do dia 28 de Janeiro na Caldense Bakery em Whitby\, Churrasqueira de Portugal\, Nova Era Bakery & Pastry\, Portugal Groceries e no NPCC. \nPreços\nSócios – $35 \nNão-Sócios – $40 \nJovens – $20 (8-17)\nCrianças – Grátis \nJantar\nFrango | BatatasArroz | Salada
URL:http://northernportugal.org/event/espetaculo-augusto-canario
LOCATION:NPCC\, 40 Albany\, Oshawa\, Ontario\, Canada
CATEGORIES:NPCC Event
END:VEVENT
BEGIN:VEVENT
DTSTART;TZID=America/Toronto:20150131T193000
DTEND;TZID=America/Toronto:20150131T193000
DTSTAMP:20260419T144005
CREATED:20150101T052853Z
LAST-MODIFIED:20231105T225523Z
UID:2294-1422732600-1422732600@northernportugal.org
SUMMARY:Roach’s Rockin’ Retro Bash
DESCRIPTION:Before Deadmau5 and Skrillex there was DJ Cosimo D spinning tunes Elusions and Stairways. On January 31st he will spin again.   \nJoin us for dancing at this retro themed fundraiser  in support of 6 year old Tristen Nathaniel Silva who is fighting Acute Lymphoblastic Leukemia (A.L.L.). Door and any additional donations will be given to the Silva family to help off-set the costs of chemotherapy. \nRead more about Tristen here.
URL:http://northernportugal.org/event/roachs-rockin-bash
LOCATION:Ontario
CATEGORIES:Fundraiser
ATTACH;FMTTYPE=image/png:http://northernportugal.org/wp-content/uploads/2015/01/Untitled-1.png
END:VEVENT
END:VCALENDAR